BEGIN:VCALENDAR
VERSION:2.0
PRODID:-//Rebirth Ministries - ECPv6.15.18//NONSGML v1.0//EN
CALSCALE:GREGORIAN
METHOD:PUBLISH
X-ORIGINAL-URL:https://rebirthrwc.org
X-WR-CALDESC:Events for Rebirth Ministries
REFRESH-INTERVAL;VALUE=DURATION:PT1H
X-Robots-Tag:noindex
X-PUBLISHED-TTL:PT1H
BEGIN:VTIMEZONE
TZID:UTC
BEGIN:STANDARD
TZOFFSETFROM:+0000
TZOFFSETTO:+0000
TZNAME:UTC
DTSTART:20190101T000000
END:STANDARD
END:VTIMEZONE
BEGIN:VEVENT
DTSTART;TZID=UTC:20200729T233000
DTEND;TZID=UTC:20200801T010000
DTSTAMP:20260422T114643
CREATED:20200725T115051Z
LAST-MODIFIED:20200725T115051Z
UID:15978-1596065400-1596243600@rebirthrwc.org
SUMMARY:Storming The Gates Of August 2020
DESCRIPTION:You will begin prayers ‪at 11.40pm on Friday 31 July\, 2020‬. \nPraise Worship (At least 20 Minutes) \nScripture\nIsaiah 43:18-19 \n18\n“Forget the former things;\ndo not dwell on the past.\n19\nSee\, I am doing a new thing!\nNow it springs up; do you not perceive it?\nI am making a way in the wilderness\nand streams in the wasteland. \nAugust is the eighth month and was named after Augustus Caesar\, one of the emperors of the Roman Empire. \nThe number 8 represents new beginnings. \nEight is ‘chet’ in Hebrew and it is depicted with a fence or enclosure; positively it signifies protection\, and negatively\, barriers. \nWe are committing August into the hands of GOD\, trusting HIM for divine protection\, a new beginning\, abundance and barrier breaking anointing\, for 2020 in JESUS Name. \nThe Hebrew meaning of ‘eight’ means abundance beyond the perfection of seven (July being the seventh month with August following) \nAugust – my month of New Beginnings\, Salvation\, Restoration\, Fruitfulness\, more Abundance and Plenty in the Name of JESUS \nPrayer Points\nFATHER LORD\, I thank YOU for preservation\, protection and provisions\, in the previous month in the Name of JESUS. \nLORD\, I thank YOU for the great things YOU are going to do in my life this new month in the Name of JESUS. \nThe LORD our GOD\, shall be a hedge around us\, around our households\, and around all that we have on every side\, in the Name of JESUS CHRIST. We declare and prophesy that the work of our hands shall be blessed\, and our possessions shall increase in the land in the Name of JESUS CHRIST \nMy loved ones and I shall run against a troop\, and we shall leap over every barrier\, by the strength of the MOST HIGH GOD\, in the Name of JESUS CHRIST. \nAll the plans of the enemy to make a gap in our walls\, in order to reign over us in 2020 shall not stand\, and it shall not come to pass\, in the Name of JESUS CHRIST. \nIn the month of August and beyond we shall be like a fortified bronze wall to the enemies\, they shall fight against us and they shall not prevail\, for the LORD shall stand with us\, and defend us\, in the Name of JESUS CHRIST. \nThe LORD shall be a wall of fire around us and our households\, and the LORD shall be the glory in the midst of us in the Name of JESUS CHRIST. \nIn August\, our ways shall not be fenced up\, and darkness shall not set into our path\, in the Name of JESUS CHRIST. We declare and prophesy that we shall not be stripped of our glory\, and our crowns shall not be taken from us\, in the Name of JESUS CHRIST. \nThis August\, our lives shall be filled with testimonies of new things; there shall be ways for us in places men call wilderness\, and rivers shall flow for us in places men termed the desert\, in JESUS Name. \nThe LORD shall find reason to rejoice in us\, and to be joyful in our households. The voice of weeping shall not be heard in us\, nor of crying in our families in the Name of JESUS CHRIST. \nWe declare that in August and beyond\, there shall be no record of death among our infants\, and the youths\, and our old men shall fulfil the number of their days\, in the Name of JESUS CHRIST. \nFrom this month we shall build houses and inhabit them and plant vineyards and eat their fruits\, in the Name of JESUS CHRIST. We declare and prophesy that\, another shall not inhabit the houses that we build\, and the fruit of our labour shall not be eaten by another\, in the Name of JESUS CHRIST. We declare and prophesy that as the days of a tree\, so shall our days and we shall live to enjoy the work of our hands in the Name of JESUS CHRIST. \nThe ONE that breaks open shall go before us\, and we shall break out\, and breakthrough all barriers\, our KING shall pass before us\, and the LORD our GOD shall be our HEAD in the Name of JESUS CHRIST. \nThank GOD for the Rebirth Ministry. \nThank GOD for answered prayers.
URL:https://rebirthrwc.org/event/storming-the-gates-of-august-2020/
LOCATION:Rebirth on Zoom
CATEGORIES:Monthly Prayers
ATTACH;FMTTYPE=image/jpeg:https://rebirthrwc.org/wp-content/uploads/2020/07/rebirth-august-2020.jpg
ORGANIZER;CN="Rebirth Ministry":MAILTO:info@rebirthrwc.org
END:VEVENT
BEGIN:VEVENT
DTSTART;TZID=UTC:20200731T233000
DTEND;TZID=UTC:20200801T010000
DTSTAMP:20260422T114643
CREATED:20200727T082124Z
LAST-MODIFIED:20200727T082124Z
UID:15992-1596238200-1596243600@rebirthrwc.org
SUMMARY:Night of Prayer July 31\,2020
DESCRIPTION:
URL:https://rebirthrwc.org/event/night-of-prayer-july-312020/
LOCATION:Rebirth on Zoom
CATEGORIES:Zoom App
ATTACH;FMTTYPE=image/jpeg:https://rebirthrwc.org/wp-content/uploads/2020/07/rebirth-jul-31-prayer-2020.jpg
ORGANIZER;CN="Rebirth Ministry":MAILTO:info@rebirthrwc.org
END:VEVENT
BEGIN:VEVENT
DTSTART;TZID=UTC:20200801T110000
DTEND;TZID=UTC:20200801T150000
DTSTAMP:20260422T114643
CREATED:20200727T081942Z
LAST-MODIFIED:20200727T081942Z
UID:15987-1596279600-1596294000@rebirthrwc.org
SUMMARY:Mirror Mirror on the wall - 1 day zoom seminar
DESCRIPTION:The Rebirth Ministry invites you to join us for \nA one day seminar for women whose ultimate goal is to be like CHRIST.\nFor this is where our true beauty comes in. \nFor this is where our true beauty comes in. \nBeauty for Ashes (Isaiah 61:3)\nFocus on taking a deep look at ourselves and seeing how much we reflect CHRIST.\nFocus on waking up to our true beauty in CHRIST (Romans 6:11)\nFocus on being beautiful through our love and kindness.\nFocus on our true beauty within.\nFocus on letting our beauty shine by taming the beast of the flesh.\nFocus on the beautiful thing that GOD can do with broken\,”ugly”\, and messy lives.\nFocus on having a “facelift” by changing our attitudes\, outlooks\, and dealing with our grumpies and what is in our hearts.\nFocus on eating more fruit for beauty. In turn\, concentrating on having more fruit of the SPIRIT in our lives on a daily basis. \nRegistration is via Eventbrite.\nRegistration is required for all those who wish to participate.\nSpaces are limited. \nPlease note: All successful participants will receive log in details to the 1 day seminar via WhatsApp.\nIf you do not receive the log in details\, it means your registration was not successful.\nPlease note like that this event requires your full participation.\nIf you cannot dedicate 4 hours of your Saturday to this meeting\, you are advised not to register. \nAll Rebirthrwc events are free\, use the link below to register. \n[cmsmasters_button shortcode_id=”h9hpnlaqqt” button_type=”regular” button_link=”https://www.eventbrite.co.uk/e/mirror-mirror-on-the-wall-tickets-114717414876?ref=eios” button_target=”blank” button_text_align=”left” button_font_weight=”default” button_font_style=”default” button_text_transform=”default” button_border_style=”default” animation_delay=”0″]Regieter Now[/cmsmasters_button]
URL:https://rebirthrwc.org/event/mirror-mirror-on-the-wall-1-day-zoom-seminar/
LOCATION:Rebirth on Zoom
CATEGORIES:Course,Programme,Zoom App
ATTACH;FMTTYPE=image/jpeg:https://rebirthrwc.org/wp-content/uploads/2020/07/rebirth-mirror-on-the-wall.jpg
ORGANIZER;CN="Rebirth Ministry":MAILTO:info@rebirthrwc.org
END:VEVENT
END:VCALENDAR