BEGIN:VCALENDAR
VERSION:2.0
PRODID:-//Rebirth Ministries - ECPv6.15.18//NONSGML v1.0//EN
CALSCALE:GREGORIAN
METHOD:PUBLISH
X-WR-CALNAME:Rebirth Ministries
X-ORIGINAL-URL:https://rebirthrwc.org
X-WR-CALDESC:Events for Rebirth Ministries
REFRESH-INTERVAL;VALUE=DURATION:PT1H
X-Robots-Tag:noindex
X-PUBLISHED-TTL:PT1H
BEGIN:VTIMEZONE
TZID:UTC
BEGIN:STANDARD
TZOFFSETFROM:+0000
TZOFFSETTO:+0000
TZNAME:UTC
DTSTART:20190101T000000
END:STANDARD
END:VTIMEZONE
BEGIN:VEVENT
DTSTART;TZID=UTC:20200901T080000
DTEND;TZID=UTC:20200930T170000
DTSTAMP:20260421T224742
CREATED:20200829T203018Z
LAST-MODIFIED:20200829T203018Z
UID:16078-1598947200-1601485200@rebirthrwc.org
SUMMARY:30 days of prayer
DESCRIPTION:
URL:https://rebirthrwc.org/event/30-days-of-prayer/
LOCATION:Rebirth WhatsApp Group
CATEGORIES:Monthly Prayers
ATTACH;FMTTYPE=image/jpeg:https://rebirthrwc.org/wp-content/uploads/2020/08/rebirth-slides-30daysofprayer.jpg
ORGANIZER;CN="Rebirth Ministry":MAILTO:info@rebirthrwc.org
END:VEVENT
BEGIN:VEVENT
DTSTART;TZID=UTC:20200927T070000
DTEND;TZID=UTC:20200927T210000
DTSTAMP:20260421T224742
CREATED:20200926T162417Z
LAST-MODIFIED:20200926T162417Z
UID:16115-1601190000-1601240400@rebirthrwc.org
SUMMARY:Sunday service - The wrath of Cain...and the place of new beginings
DESCRIPTION:Our heart attitude is what GOD seeks in whatever we offer to HIM.\nWhen what we do is unacceptable\, GOD will give us a chance to resubmit. \nJoin us for Sunday Service at 7.00AM Sunday 27 September 2020\, hosted by the Rebirth Ministry on the ministry’s WhatsApp prayer forum.
URL:https://rebirthrwc.org/event/the-wrath-of-cain-and-the-place-of-new-beginings/
LOCATION:Rebirth WhatsApp Group
CATEGORIES:Sunday Service
ATTACH;FMTTYPE=image/jpeg:https://rebirthrwc.org/wp-content/uploads/2020/09/rebirth-slides-wrath-of-cain.jpg
ORGANIZER;CN="Rebirth Ministry":MAILTO:info@rebirthrwc.org
END:VEVENT
END:VCALENDAR