BEGIN:VCALENDAR
VERSION:2.0
PRODID:-//Rebirth Ministries - ECPv6.15.18//NONSGML v1.0//EN
CALSCALE:GREGORIAN
METHOD:PUBLISH
X-WR-CALNAME:Rebirth Ministries
X-ORIGINAL-URL:https://rebirthrwc.org
X-WR-CALDESC:Events for Rebirth Ministries
REFRESH-INTERVAL;VALUE=DURATION:PT1H
X-Robots-Tag:noindex
X-PUBLISHED-TTL:PT1H
BEGIN:VTIMEZONE
TZID:UTC
BEGIN:STANDARD
TZOFFSETFROM:+0000
TZOFFSETTO:+0000
TZNAME:UTC
DTSTART:20190101T000000
END:STANDARD
END:VTIMEZONE
BEGIN:VEVENT
DTSTART;TZID=UTC:20201001T080000
DTEND;TZID=UTC:20201029T170000
DTSTAMP:20260422T000913
CREATED:20200926T163250Z
LAST-MODIFIED:20200926T163250Z
UID:16118-1601539200-1603990800@rebirthrwc.org
SUMMARY:21 days of deliverance
DESCRIPTION:Exodus 3:7-9 \n7 And the LORD said\, ‘I have indeed seen the oppression of MY people who are in Egypt and have heard their cry because of their taskmasters\, for I know their sorrows.\n8 So I have come down to deliver them out of the hand of the Egyptians\, and to bring them up from that land to a good and vast land\, to a land flowing with milk and honey\, to the place of the Canaanites and the Amorites and the Hittites and the Hivites and the Perizzites and the Jebusites.\n9 Now\, therefore\, see\, the cry of the children of Israel has come to ME\, and I have also seen the oppression with which the Egyptians oppress them. 10 Come now\, therefore\, and I will send you to Pharaoh that you may bring MY people\, the children of Israel\, out of Egypt.” \nDeliverance is being free from your bondage and limitations and empowered to fulfil GOD’S purpose for your life. \nAs children of GOD\, we may pray and seek deliverance from GOD regarding any situation that is unpleasing and limiting us from being the best for the kingdom of GOD here on earth. \nJoin us in waiting on the LORD for 21 days. \nThursday 1 October-Thursday 29 October 2020 \nWhere you live is not a barrier.\nGOD is close to you\, and we are close to each other spiritually. \nIn this prayer retreat\, we will come before GOD in agreement and demand deliverance from anything and everything that is contesting our progress spiritually\, mentally\, maritally\, healthwise\, financially\, and otherwise. \nAnd GOD will answer. In JESUS mighty Name. \nSaturday & Sunday are fast free days \nThis programme is only available to members of the Rebirthrwc Ministry.
URL:https://rebirthrwc.org/event/21-days-of-deliverance/
LOCATION:Rebirth WhatsApp Group
CATEGORIES:Fasting
ATTACH;FMTTYPE=image/jpeg:https://rebirthrwc.org/wp-content/uploads/2020/09/rebirth-slides-21-days-of-october.jpg
ORGANIZER;CN="Rebirth Ministry":MAILTO:info@rebirthrwc.org
END:VEVENT
BEGIN:VEVENT
DTSTART;TZID=UTC:20201016T233000
DTEND;TZID=UTC:20201017T030000
DTSTAMP:20260422T000913
CREATED:20201015T195314Z
LAST-MODIFIED:20201015T195314Z
UID:16138-1602891000-1602903600@rebirthrwc.org
SUMMARY:Friday Night Vigil - October 16\, 2020‬
DESCRIPTION:‪Praise and worship at 11:40PM (20 minutes) – West Africa Time‬ \n‪Log on to Periscope at 11.55PM ‬ \nMinistration – A Terrible Sin\n\nScripture \nHebrews 12: 2 \nLooking unto JESUS\, the AUTHOR and PERFECTER of our faith\, WHO for the joy that was set before HIM endured the Cross\, despising the shame\, and has sat down at the right hand of the throne of GOD. \n\nPrayer Points\nHeavenly FATHER\, I thank YOU and praise YOU for this day and this life YOU have bestowed upon me. I thank YOU for being able to see\, to hear and the ability to walk and talk. I thank YOU for my family and friends\, in JESUS Name. \nForgive me\, FATHER\, this day for everything I have done\, said or thought that was not pleasing to YOU. YOU have done so much for me and the best of YOUR gifts is my LORD and YOUR SON JESUS. \nLORD\, keep me from pride\, arrogance and self-importance. May I seek YOU with all my heart\, remembering that I need YOU and that YOU never forget me. \nFATHER\, thank YOU that you call me into this intimate relationship with JESUS. Help me to put my roots down deep and to keep my eyes fixed on YOU. Help me to guard this relationship and never allow other things\, even good things\, to crowd in and choke my life. \nLORD\, thank YOU that the potential for my life is vast. May I produce a crop thirty\, sixty or even a hundred times what was sown. \nCome LORD JESUS into my heart and abide in my life as I abide in YOU. Renew in me YOUR SPIRIT and purify me with YOUR precious Blood. \nFATHER\, let YOUR will be done concerning my life\, in the Name of JESUS. \nFATHER LORD\, help me to do YOUR will and not mine\, in the Name of JESUS. \nFATHER LORD\, grant me the grace to obey YOUR will for my life\, in the Name of JESUS. \nFATHER LORD\, direct me in the path of my destiny\, in the Name of JESUS. \nThank GOD for answered prayers.
URL:https://rebirthrwc.org/event/friday-night-vigil-october-16-2020/
LOCATION:Rebirth on Periscope
CATEGORIES:Periscope
ATTACH;FMTTYPE=image/jpeg:https://rebirthrwc.org/wp-content/uploads/2019/06/rebirth-on-periscope.jpeg
ORGANIZER;CN="Rebirth Ministry":MAILTO:info@rebirthrwc.org
END:VEVENT
END:VCALENDAR