BEGIN:VCALENDAR
VERSION:2.0
PRODID:-//Rebirth Ministries - ECPv6.15.18//NONSGML v1.0//EN
CALSCALE:GREGORIAN
METHOD:PUBLISH
X-WR-CALNAME:Rebirth Ministries
X-ORIGINAL-URL:https://rebirthrwc.org
X-WR-CALDESC:Events for Rebirth Ministries
REFRESH-INTERVAL;VALUE=DURATION:PT1H
X-Robots-Tag:noindex
X-PUBLISHED-TTL:PT1H
BEGIN:VTIMEZONE
TZID:UTC
BEGIN:STANDARD
TZOFFSETFROM:+0000
TZOFFSETTO:+0000
TZNAME:UTC
DTSTART:20190101T000000
END:STANDARD
END:VTIMEZONE
BEGIN:VEVENT
DTSTART;TZID=UTC:20201030T233000
DTEND;TZID=UTC:20201030T233000
DTSTAMP:20260422T000913
CREATED:20201029T082706Z
LAST-MODIFIED:20201029T082706Z
UID:16156-1604100600-1604100600@rebirthrwc.org
SUMMARY:Night of Prayer - Last Friday of the month Night of Prayer.
DESCRIPTION:ZOOM NOTICE\n  \nPsalm 95:1-3 \n95 O come\, let us sing unto the LORD: let us make a joyful noise to the ROCK of our salvation.\n2 Let us come before HIS presence with thanksgiving\, and make a joyful noise unto HIM with psalms.\n3 For the LORD is a great GOD\, and a great KING above all gods. \nThanksgiving is such a huge part of our Christian life because of what JESUS has done for us and what HE continually does every day. But how many of us know that it is easier to give thanks when things are going good than when the enemy is on the attack and all you want to do is cry and complain?\nYou see\, that’s what the enemy wants you to do. As you complain\, you are walking in the opposite direction of faith and that means GOD can’t move in your life in that situation.\nHowever\, when we give thanks in accordance to the WORD of GOD\, we are strengthening ourselves in faith and shifting our focus on the solution provider. We allow our faith to work as we wait for the manifestation to appear in our lives. \nJoin us at 12:00AM (West Africa Time) on Friday 30 October 2020 for a night of deliverance\, “The Power of Thanksgiving“ at our end of the month Friday Night Vigil on Zoom. \nThis broadcast is only available to members of the Rebirthrwc Ministry.
URL:https://rebirthrwc.org/event/night-of-prayer-last-friday-of-the-month-night-of-prayer/
LOCATION:Rebirth on Zoom
CATEGORIES:Zoom App
ATTACH;FMTTYPE=image/jpeg:https://rebirthrwc.org/wp-content/uploads/2020/10/rebirth-slides-oct-30-2020.jpg
ORGANIZER;CN="Rebirth Ministry":MAILTO:info@rebirthrwc.org
END:VEVENT
END:VCALENDAR