BEGIN:VCALENDAR
VERSION:2.0
PRODID:-//Rebirth Ministries - ECPv6.15.18//NONSGML v1.0//EN
CALSCALE:GREGORIAN
METHOD:PUBLISH
X-ORIGINAL-URL:https://rebirthrwc.org
X-WR-CALDESC:Events for Rebirth Ministries
REFRESH-INTERVAL;VALUE=DURATION:PT1H
X-Robots-Tag:noindex
X-PUBLISHED-TTL:PT1H
BEGIN:VTIMEZONE
TZID:UTC
BEGIN:STANDARD
TZOFFSETFROM:+0000
TZOFFSETTO:+0000
TZNAME:UTC
DTSTART:20190101T000000
END:STANDARD
END:VTIMEZONE
BEGIN:VEVENT
DTSTART;TZID=UTC:20201108T070000
DTEND;TZID=UTC:20201108T210000
DTSTAMP:20260422T014658
CREATED:20201108T075755Z
LAST-MODIFIED:20201108T075755Z
UID:16173-1604818800-1604869200@rebirthrwc.org
SUMMARY:Sunday service - The Recipe for Generosity
DESCRIPTION:As Christians we are called to be generous. Sharing GOD’S love generously.\nThis sermon explores what helps us be generous givers. \nJoin us for Sunday Service at 7.00AM Sunday 8 November 2020\, \nhosted by the Rebirth Ministry on Zoom.
URL:https://rebirthrwc.org/event/sunday-service-the-recipe-for-generosity/
LOCATION:Rebirth on Zoom
CATEGORIES:Sunday Service,Zoom App
ATTACH;FMTTYPE=image/jpeg:https://rebirthrwc.org/wp-content/uploads/2020/11/rebirth-sunday-service-nov-8.jpg
ORGANIZER;CN="Rebirth Ministry":MAILTO:info@rebirthrwc.org
END:VEVENT
END:VCALENDAR