BEGIN:VCALENDAR
VERSION:2.0
PRODID:-//Rebirth Ministries - ECPv6.15.18//NONSGML v1.0//EN
CALSCALE:GREGORIAN
METHOD:PUBLISH
X-WR-CALNAME:Rebirth Ministries
X-ORIGINAL-URL:https://rebirthrwc.org
X-WR-CALDESC:Events for Rebirth Ministries
REFRESH-INTERVAL;VALUE=DURATION:PT1H
X-Robots-Tag:noindex
X-PUBLISHED-TTL:PT1H
BEGIN:VTIMEZONE
TZID:UTC
BEGIN:STANDARD
TZOFFSETFROM:+0000
TZOFFSETTO:+0000
TZNAME:UTC
DTSTART:20190101T000000
END:STANDARD
END:VTIMEZONE
BEGIN:VEVENT
DTSTART;TZID=UTC:20201116T233000
DTEND;TZID=UTC:20201122T010000
DTSTAMP:20260422T063529
CREATED:20201116T100217Z
LAST-MODIFIED:20201116T100217Z
UID:16183-1605569400-1606006800@rebirthrwc.org
SUMMARY:O Lord show me the secret of my life - 7 days Prayer & Fasting programme
DESCRIPTION:As we approach the last month of 2020\, join us as we embark on 7 days of prayer and fasting under the Rebirth Ministry Foundational Deliverance Programme\, O LORD\, Show Me The Secret Of My Life. \nMonday 16 – Sunday 22 November 2020\n0.00 GMT \nPrayers and programme protocol is available on the website \nThis programme is only available to Rebirth members
URL:https://rebirthrwc.org/event/o-lord-show-me-the-secret-of-my-life-7-days-prayer-fasting-programme/
LOCATION:Rebirth on Zoom
CATEGORIES:Programme,Zoom App
ATTACH;FMTTYPE=image/jpeg:https://rebirthrwc.org/wp-content/uploads/2020/11/rebirth-slides-7-dyas-of-prayer-and-fasting.jpg
ORGANIZER;CN="Rebirth Ministry":MAILTO:info@rebirthrwc.org
END:VEVENT
BEGIN:VEVENT
DTSTART;TZID=UTC:20201122T070000
DTEND;TZID=UTC:20201122T210000
DTSTAMP:20260422T063529
CREATED:20201121T124220Z
LAST-MODIFIED:20201121T124220Z
UID:16192-1606028400-1606078800@rebirthrwc.org
SUMMARY:Sunday service - Extravagant Love Luke 6:36-38
DESCRIPTION:JESUS talks about living a lifestyle of extravagance. JESUS calls us to be extravagant in your surrender\, extravagant in your compassion and extravagant in your giving. \n\nJoin us for Sunday Service at 7.00AM Sunday 22 November 2020\, hosted by the Rebirth Ministry on Zoom.
URL:https://rebirthrwc.org/event/sunday-service-extravagant-love-luke-636-38/
LOCATION:Rebirth on Zoom
CATEGORIES:Sunday Service,Zoom App
ATTACH;FMTTYPE=image/jpeg:https://rebirthrwc.org/wp-content/uploads/2020/11/rebirth-slides-sunday-service-nov-22.jpg
ORGANIZER;CN="Rebirth Ministry":MAILTO:info@rebirthrwc.org
END:VEVENT
END:VCALENDAR