BEGIN:VCALENDAR
VERSION:2.0
PRODID:-//Rebirth Ministries - ECPv6.15.18//NONSGML v1.0//EN
CALSCALE:GREGORIAN
METHOD:PUBLISH
X-ORIGINAL-URL:https://rebirthrwc.org
X-WR-CALDESC:Events for Rebirth Ministries
REFRESH-INTERVAL;VALUE=DURATION:PT1H
X-Robots-Tag:noindex
X-PUBLISHED-TTL:PT1H
BEGIN:VTIMEZONE
TZID:UTC
BEGIN:STANDARD
TZOFFSETFROM:+0000
TZOFFSETTO:+0000
TZNAME:UTC
DTSTART:20200101T000000
END:STANDARD
END:VTIMEZONE
BEGIN:VEVENT
DTSTART;VALUE=DATE:20210217
DTEND;VALUE=DATE:20210404
DTSTAMP:20260425T144541
CREATED:20210210T124419Z
LAST-MODIFIED:20210210T124419Z
UID:16346-1613520000-1617494399@rebirthrwc.org
SUMMARY:Because he lives - A study on the book of james
DESCRIPTION:
URL:https://rebirthrwc.org/event/because-he-lives-a-study-on-the-book-of-james/
LOCATION:Rebirth on Eventbrite
CATEGORIES:Course,Zoom App
ATTACH;FMTTYPE=image/jpeg:https://rebirthrwc.org/wp-content/uploads/2021/02/rebirth-slides-because-he-lives.jpg
ORGANIZER;CN="Rebirth Ministry":MAILTO:info@rebirthrwc.org
END:VEVENT
BEGIN:VEVENT
DTSTART;TZID=UTC:20210225T233000
DTEND;TZID=UTC:20210226T010000
DTSTAMP:20260425T144541
CREATED:20210225T073810Z
LAST-MODIFIED:20210225T073810Z
UID:16356-1614295800-1614301200@rebirthrwc.org
SUMMARY:I shall not be put to Shame
DESCRIPTION:
URL:https://rebirthrwc.org/event/i-shall-not-be-put-to-shame/
LOCATION:Rebirth on Zoom
CATEGORIES:Zoom App
ATTACH;FMTTYPE=image/jpeg:https://rebirthrwc.org/wp-content/uploads/2021/02/rebirth-slides-from-posts21-1.jpg
ORGANIZER;CN="Rebirth Ministry":MAILTO:info@rebirthrwc.org
END:VEVENT
END:VCALENDAR