BEGIN:VCALENDAR
VERSION:2.0
PRODID:-//Rebirth Ministries - ECPv6.15.18//NONSGML v1.0//EN
CALSCALE:GREGORIAN
METHOD:PUBLISH
X-ORIGINAL-URL:https://rebirthrwc.org
X-WR-CALDESC:Events for Rebirth Ministries
REFRESH-INTERVAL;VALUE=DURATION:PT1H
X-Robots-Tag:noindex
X-PUBLISHED-TTL:PT1H
BEGIN:VTIMEZONE
TZID:UTC
BEGIN:STANDARD
TZOFFSETFROM:+0000
TZOFFSETTO:+0000
TZNAME:UTC
DTSTART:20200101T000000
END:STANDARD
END:VTIMEZONE
BEGIN:VEVENT
DTSTART;TZID=UTC:20210308T180000
DTEND;TZID=UTC:20210422T200000
DTSTAMP:20260425T235249
CREATED:20210308T142027Z
LAST-MODIFIED:20210308T142027Z
UID:16366-1615226400-1619121600@rebirthrwc.org
SUMMARY:Time with SL - 2 hours of Word\, bible study and prayer
DESCRIPTION:
URL:https://rebirthrwc.org/event/time-with-sl-2-hours-of-word-bible-study-and-prayer/
LOCATION:Rebirth on Eventbrite
CATEGORIES:Instagram LIVE,Zoom App
ATTACH;FMTTYPE=image/jpeg:https://rebirthrwc.org/wp-content/uploads/2021/03/TimewithSL-rebirth.jpg
ORGANIZER;CN="Rebirth Ministry":MAILTO:info@rebirthrwc.org
END:VEVENT
END:VCALENDAR