BEGIN:VCALENDAR
VERSION:2.0
PRODID:-//Rebirth Ministries - ECPv6.15.18//NONSGML v1.0//EN
CALSCALE:GREGORIAN
METHOD:PUBLISH
X-ORIGINAL-URL:https://rebirthrwc.org
X-WR-CALDESC:Events for Rebirth Ministries
REFRESH-INTERVAL;VALUE=DURATION:PT1H
X-Robots-Tag:noindex
X-PUBLISHED-TTL:PT1H
BEGIN:VTIMEZONE
TZID:UTC
BEGIN:STANDARD
TZOFFSETFROM:+0000
TZOFFSETTO:+0000
TZNAME:UTC
DTSTART:20210101T000000
END:STANDARD
END:VTIMEZONE
BEGIN:VEVENT
DTSTART;TZID=UTC:20220704T233000
DTEND;TZID=UTC:20220705T003000
DTSTAMP:20260422T001041
CREATED:20220704T153337Z
LAST-MODIFIED:20220704T153337Z
UID:17487-1656977400-1656981000@rebirthrwc.org
SUMMARY:CELEBRATION Vigil - I Am Desirous Of A Life Partner
DESCRIPTION:
URL:https://rebirthrwc.org/event/celebration-vigil-i-am-desirous-of-a-life-partner/
LOCATION:Rebirth on Zoom
CATEGORIES:Zoom App
ATTACH;FMTTYPE=image/jpeg:https://rebirthrwc.org/wp-content/uploads/2022/07/celebration-vigil-copy.jpg
ORGANIZER;CN="Rebirth Ministry":MAILTO:info@rebirthrwc.org
END:VEVENT
END:VCALENDAR