BEGIN:VCALENDAR
VERSION:2.0
PRODID:-//Rebirth Ministries - ECPv6.15.18//NONSGML v1.0//EN
CALSCALE:GREGORIAN
METHOD:PUBLISH
X-ORIGINAL-URL:https://rebirthrwc.org
X-WR-CALDESC:Events for Rebirth Ministries
REFRESH-INTERVAL;VALUE=DURATION:PT1H
X-Robots-Tag:noindex
X-PUBLISHED-TTL:PT1H
BEGIN:VTIMEZONE
TZID:UTC
BEGIN:STANDARD
TZOFFSETFROM:+0000
TZOFFSETTO:+0000
TZNAME:UTC
DTSTART:20190101T000000
END:STANDARD
END:VTIMEZONE
BEGIN:VEVENT
DTSTART;TZID=UTC:20200615T090000
DTEND;TZID=UTC:20200712T170000
DTSTAMP:20260421T043919
CREATED:20200605T152331Z
LAST-MODIFIED:20200605T152331Z
UID:15890-1592211600-1594573200@rebirthrwc.org
SUMMARY:4 Week Prayer Course - Everything else will be added
DESCRIPTION:Join us as we spend 28 days discovering much about prayer together on the Prayer Course\, “….Everything Else Will Be Added”. \nThis course is divided into 4 weeks\, each with a different emphasis. \nWith daily ministration and prayers via the Rebirth Ministry WhatsApp Prayer Forum\, we encourage everyone to participate in this opportunity to learn to grow their prayer life. \nWeek One -The Lord’s Prayer\nWeek Two – Our Mission (Believe\, Belong\, Become)\nWeek Three – Tabernacle Prayer\nWeek Four – Praying With Power \nThe course runs from Monday 15 June to Sunday 12 July 2020 \nTo participate in this course\, kindly register on Eventbrite. \n[cmsmasters_button shortcode_id=”1mfgytmufl” button_type=”regular” button_link=”https://www.eventbrite.co.uk/e/the-prayer-course-everything-else-will-be-added-tickets-108622424596″ button_target=”blank” button_text_align=”left” button_font_weight=”default” button_font_style=”default” button_text_transform=”default” button_border_style=”default” animation_delay=”0″]REGISTER[/cmsmasters_button]
URL:https://rebirthrwc.org/event/4-week-prayer-course-everything-else-will-be-added/
LOCATION:Rebirth WhatsApp Group
CATEGORIES:Course
ATTACH;FMTTYPE=image/jpeg:https://rebirthrwc.org/wp-content/uploads/2020/06/rebirth-slides-4-week-prayer-course.jpg
ORGANIZER;CN="Rebirth Ministry":MAILTO:info@rebirthrwc.org
END:VEVENT
END:VCALENDAR