BEGIN:VCALENDAR
VERSION:2.0
PRODID:-//Rebirth Ministries - ECPv6.15.18//NONSGML v1.0//EN
CALSCALE:GREGORIAN
METHOD:PUBLISH
X-ORIGINAL-URL:https://rebirthrwc.org
X-WR-CALDESC:Events for Rebirth Ministries
REFRESH-INTERVAL;VALUE=DURATION:PT1H
X-Robots-Tag:noindex
X-PUBLISHED-TTL:PT1H
BEGIN:VTIMEZONE
TZID:UTC
BEGIN:STANDARD
TZOFFSETFROM:+0000
TZOFFSETTO:+0000
TZNAME:UTC
DTSTART:20190101T000000
END:STANDARD
END:VTIMEZONE
BEGIN:VEVENT
DTSTART;TZID=UTC:20200801T110000
DTEND;TZID=UTC:20200801T150000
DTSTAMP:20260421T031126
CREATED:20200727T081942Z
LAST-MODIFIED:20200727T081942Z
UID:15987-1596279600-1596294000@rebirthrwc.org
SUMMARY:Mirror Mirror on the wall - 1 day zoom seminar
DESCRIPTION:The Rebirth Ministry invites you to join us for \nA one day seminar for women whose ultimate goal is to be like CHRIST.\nFor this is where our true beauty comes in. \nFor this is where our true beauty comes in. \nBeauty for Ashes (Isaiah 61:3)\nFocus on taking a deep look at ourselves and seeing how much we reflect CHRIST.\nFocus on waking up to our true beauty in CHRIST (Romans 6:11)\nFocus on being beautiful through our love and kindness.\nFocus on our true beauty within.\nFocus on letting our beauty shine by taming the beast of the flesh.\nFocus on the beautiful thing that GOD can do with broken\,”ugly”\, and messy lives.\nFocus on having a “facelift” by changing our attitudes\, outlooks\, and dealing with our grumpies and what is in our hearts.\nFocus on eating more fruit for beauty. In turn\, concentrating on having more fruit of the SPIRIT in our lives on a daily basis. \nRegistration is via Eventbrite.\nRegistration is required for all those who wish to participate.\nSpaces are limited. \nPlease note: All successful participants will receive log in details to the 1 day seminar via WhatsApp.\nIf you do not receive the log in details\, it means your registration was not successful.\nPlease note like that this event requires your full participation.\nIf you cannot dedicate 4 hours of your Saturday to this meeting\, you are advised not to register. \nAll Rebirthrwc events are free\, use the link below to register. \n[cmsmasters_button shortcode_id=”h9hpnlaqqt” button_type=”regular” button_link=”https://www.eventbrite.co.uk/e/mirror-mirror-on-the-wall-tickets-114717414876?ref=eios” button_target=”blank” button_text_align=”left” button_font_weight=”default” button_font_style=”default” button_text_transform=”default” button_border_style=”default” animation_delay=”0″]Regieter Now[/cmsmasters_button]
URL:https://rebirthrwc.org/event/mirror-mirror-on-the-wall-1-day-zoom-seminar/
LOCATION:Rebirth on Zoom
CATEGORIES:Course,Programme,Zoom App
ATTACH;FMTTYPE=image/jpeg:https://rebirthrwc.org/wp-content/uploads/2020/07/rebirth-mirror-on-the-wall.jpg
ORGANIZER;CN="Rebirth Ministry":MAILTO:info@rebirthrwc.org
END:VEVENT
END:VCALENDAR