BEGIN:VCALENDAR
VERSION:2.0
PRODID:-//Rebirth Ministries - ECPv6.15.18//NONSGML v1.0//EN
CALSCALE:GREGORIAN
METHOD:PUBLISH
X-ORIGINAL-URL:https://rebirthrwc.org
X-WR-CALDESC:Events for Rebirth Ministries
REFRESH-INTERVAL;VALUE=DURATION:PT1H
X-Robots-Tag:noindex
X-PUBLISHED-TTL:PT1H
BEGIN:VTIMEZONE
TZID:UTC
BEGIN:STANDARD
TZOFFSETFROM:+0000
TZOFFSETTO:+0000
TZNAME:UTC
DTSTART:20240101T000000
END:STANDARD
END:VTIMEZONE
BEGIN:VEVENT
DTSTART;TZID=UTC:20250627T080000
DTEND;TZID=UTC:20250627T170000
DTSTAMP:20260424T033822
CREATED:20250627T171723Z
LAST-MODIFIED:20250627T171723Z
UID:19415-1751011200-1751043600@rebirthrwc.org
SUMMARY:7 Nights Of Prayer For 60’s And Over
DESCRIPTION:The Rebirth Ministry is inviting you to a scheduled Zoom meeting. \n7 Nights Of Prayer For 60’s And Over\nTuesday June 24 – Monday 30 June 2025\n11:00PM – 11:15PM Africa/Lagos\nJoin Zoom Meeting\nhttps://us06web.zoom.us/j/87083715483?pwd=0FO9baga4ci40tXc88bUxTapaEueSH.1 \nMeeting ID: 870 8371 5483\nPasscode: 969658 \n— \nOne tap mobile\n+13126266799\,\,87083715483#\,\,\,\,*969658# US (Chicago)\n+16469313860\,\,87083715483#\,\,\,\,*969658# US \n— \nDial by your location\n•⁠ ⁠+1 312 626 6799 US (Chicago)\n•⁠ ⁠+1 646 931 3860 US\n•⁠ ⁠+1 929 205 6099 US (New York)\n•⁠ ⁠+1 301 715 8592 US (Washington DC)\n•⁠ ⁠+1 305 224 1968 US\n•⁠ ⁠+1 309 205 3325 US\n•⁠ ⁠+1 507 473 4847 US\n•⁠ ⁠+1 564 217 2000 US\n•⁠ ⁠+1 669 444 9171 US\n•⁠ ⁠+1 669 900 6833 US (San Jose)\n•⁠ ⁠+1 689 278 1000 US\n•⁠ ⁠+1 719 359 4580 US\n•⁠ ⁠+1 253 205 0468 US\n•⁠ ⁠+1 253 215 8782 US (Tacoma)\n•⁠ ⁠+1 346 248 7799 US (Houston)\n•⁠ ⁠+1 360 209 5623 US\n•⁠ ⁠+1 386 347 5053 US \nMeeting ID: 870 8371 5483\nPasscode: 969658 \nFind your local number: https://us06web.zoom.us/u/kd9yRyTT3d
URL:https://rebirthrwc.org/event/7-nights-of-prayer-for-60s-and-over-2/
LOCATION:Rebirth on Zoom
CATEGORIES:Monthly Activities
ATTACH;FMTTYPE=image/jpeg:https://rebirthrwc.org/wp-content/uploads/2025/06/WhatsApp-Image-2025-06-27-at-18.00.17.jpeg
ORGANIZER;CN="Rebirth Ministry":MAILTO:info@rebirthrwc.org
END:VEVENT
BEGIN:VEVENT
DTSTART;TZID=UTC:20250627T233000
DTEND;TZID=UTC:20250628T003000
DTSTAMP:20260424T033822
CREATED:20250627T170750Z
LAST-MODIFIED:20250627T170750Z
UID:19412-1751067000-1751070600@rebirthrwc.org
SUMMARY:Night of PRAYER June 27 - My Season Of Divine Rest  Matthew 11:28-30
DESCRIPTION:My Season Of Divine Rest\nMatthew 11:28-30 \nCome to ME all you who are weary and burdened\, and I will give you rest. Take MY yoke upon you and learn from ME\, for I am gentle and humble in heart and you will find rest for your souls.\nFor MY yoke is easy and MY burden is light. \nIn a world full of chaos\, pain\, lack\, disappointment\, sorrow\, loss and many more unpalatable things\, the last thing many would believe\, is that GOD truly gives peace and rest.\nThis notwithstanding\, GOD’S WORD is settled in heaven and true on earth for as many as believe in HIM. \nJoin us at midnight (Nigeria Time) tonight\, Friday 27 June 2025 at our end of the month Friday Night Vigil on Zoom as we learn how to access and step into the rest of GOD. \nFor zoom link details please send an email to: info@rebirthrwc or check the Rebirth WhatsApp channel or the website. \nThe Rebirth Ministry is inviting you to a scheduled Zoom meeting.\nNight of Prayer\nFriday June 27\, 2025\nMidnight Nigeria Time \nJoin Zoom Meeting\nhttps://us06web.zoom.us/j/82406201229?pwd=0AgaLXZ6YqvFMbS3b3DhTbxM9PLqdj.1 \nMeeting ID: 824 0620 1229\nPasscode: 571450 \n— \nOne tap mobile\n+13126266799\,\,82406201229#\,\,\,\,*571450# US (Chicago)\n+16469313860\,\,82406201229#\,\,\,\,*571450# US \n— \nDial by your location\n•⁠ ⁠+1 312 626 6799 US (Chicago)\n•⁠ ⁠+1 646 931 3860 US\n•⁠ ⁠+1 929 205 6099 US (New York)\n•⁠ ⁠+1 301 715 8592 US (Washington DC)\n•⁠ ⁠+1 305 224 1968 US\n•⁠ ⁠+1 309 205 3325 US\n•⁠ ⁠+1 253 205 0468 US\n•⁠ ⁠+1 253 215 8782 US (Tacoma)\n•⁠ ⁠+1 346 248 7799 US (Houston)\n•⁠ ⁠+1 360 209 5623 US\n•⁠ ⁠+1 386 347 5053 US\n•⁠ ⁠+1 507 473 4847 US\n•⁠ ⁠+1 564 217 2000 US\n•⁠ ⁠+1 669 444 9171 US\n•⁠ ⁠+1 669 900 6833 US (San Jose)\n•⁠ ⁠+1 689 278 1000 US\n•⁠ ⁠+1 719 359 4580 US \nMeeting ID: 824 0620 1229\nPasscode: 571450 \nFind your local number: https://us06web.zoom.us/u/kezYgtGxsK
URL:https://rebirthrwc.org/event/night-of-prayer-june-27-my-season-of-divine-rest-matthew-1128-30/
LOCATION:Rebirth on Zoom
CATEGORIES:Monthly Activities,Special Activities,Zoom App
ATTACH;FMTTYPE=image/jpeg:https://rebirthrwc.org/wp-content/uploads/2025/06/WhatsApp-Image-2025-06-27-at-17.48.11.jpeg
ORGANIZER;CN="Rebirth Ministry":MAILTO:info@rebirthrwc.org
END:VEVENT
END:VCALENDAR