BEGIN:VCALENDAR
VERSION:2.0
PRODID:-//Rebirth Ministries - ECPv6.15.18//NONSGML v1.0//EN
CALSCALE:GREGORIAN
METHOD:PUBLISH
X-ORIGINAL-URL:https://rebirthrwc.org
X-WR-CALDESC:Events for Rebirth Ministries
REFRESH-INTERVAL;VALUE=DURATION:PT1H
X-Robots-Tag:noindex
X-PUBLISHED-TTL:PT1H
BEGIN:VTIMEZONE
TZID:UTC
BEGIN:STANDARD
TZOFFSETFROM:+0000
TZOFFSETTO:+0000
TZNAME:UTC
DTSTART:20250101T000000
END:STANDARD
END:VTIMEZONE
BEGIN:VEVENT
DTSTART;TZID=UTC:20260129T233000
DTEND;TZID=UTC:20260130T003000
DTSTAMP:20260417T193729
CREATED:20260129T071839Z
LAST-MODIFIED:20260129T071839Z
UID:19572-1769729400-1769733000@rebirthrwc.org
SUMMARY:Night of PRAYER January 2026 - The GOD Of Peace
DESCRIPTION:Zoom Notice \nJanuary 2026 \nLast Friday of the Month Night of Prayer \nThe GOD Of Peace\nPhilippians 4:6–7 \n6 Do not be anxious about anything\, but in every situation\, by prayer and petition\, with thanksgiving\, present your requests to GOD. 7 And the peace of GOD\, which transcends all understanding\, will guard your hearts and your minds in CHRIST JESUS. \nPeace is one of the most desired but often elusive experiences in our world today. \nMany search for peace in possessions\, positions\, or people\, yet only the GOD of Peace can give peace that passes human understanding. \nJoin us at midnight (Nigeria Time) Friday 29 January 2026 at our end of the month Friday Night Vigil on Zoom\, as we explore this Peace that GOD gives\, and may your heart be filled with the assurance that the GOD of peace is not distant.\nHE is near\, present\, and powerful to still every storm and restore your soul\, \nFor zoom link details please check the Rebirth WhatsApp channel or send an email to: info@rebirthrwc
URL:https://rebirthrwc.org/event/night-of-prayer-january-2026-the-god-of-peace/
LOCATION:Rebirth on Zoom
CATEGORIES:Monthly Activities,Special Activities,Zoom App
ATTACH;FMTTYPE=image/jpeg:https://rebirthrwc.org/wp-content/uploads/2026/01/WhatsApp-Image-2026-01-29-at-01.36.37.jpeg
ORGANIZER;CN="Rebirth Ministry":MAILTO:info@rebirthrwc.org
END:VEVENT
END:VCALENDAR