BEGIN:VCALENDAR
VERSION:2.0
PRODID:-//Rebirth Ministries - ECPv6.15.18//NONSGML v1.0//EN
CALSCALE:GREGORIAN
METHOD:PUBLISH
X-WR-CALNAME:Rebirth Ministries
X-ORIGINAL-URL:https://rebirthrwc.org
X-WR-CALDESC:Events for Rebirth Ministries
REFRESH-INTERVAL;VALUE=DURATION:PT1H
X-Robots-Tag:noindex
X-PUBLISHED-TTL:PT1H
BEGIN:VTIMEZONE
TZID:UTC
BEGIN:STANDARD
TZOFFSETFROM:+0000
TZOFFSETTO:+0000
TZNAME:UTC
DTSTART:20200101T000000
END:STANDARD
END:VTIMEZONE
BEGIN:VEVENT
DTSTART;TZID=UTC:20211028T230000
DTEND;TZID=UTC:20211029T000000
DTSTAMP:20260424T040213
CREATED:20211024T095627Z
LAST-MODIFIED:20211024T095627Z
UID:16755-1635462000-1635465600@rebirthrwc.org
SUMMARY:Is Halloween evil ?
DESCRIPTION:
URL:https://rebirthrwc.org/event/is-halloween-evil/
LOCATION:Rebirth on Zoom
CATEGORIES:Zoom App
ATTACH;FMTTYPE=image/jpeg:https://rebirthrwc.org/wp-content/uploads/2021/10/is-halloween-different.jpg
ORGANIZER;CN="Rebirth Ministry":MAILTO:info@rebirthrwc.org
END:VEVENT
BEGIN:VEVENT
DTSTART;TZID=UTC:20211028T233000
DTEND;TZID=UTC:20211029T000000
DTSTAMP:20260424T040213
CREATED:20211024T095914Z
LAST-MODIFIED:20211024T095914Z
UID:16757-1635463800-1635465600@rebirthrwc.org
SUMMARY:Can satan read your mind ?
DESCRIPTION:
URL:https://rebirthrwc.org/event/can-satan-read-your-mind/
LOCATION:Rebirth on Zoom
CATEGORIES:Zoom App
ATTACH;FMTTYPE=image/jpeg:https://rebirthrwc.org/wp-content/uploads/2021/10/satan-read-ur-mind.jpg
ORGANIZER;CN="Rebirth Ministry":MAILTO:info@rebirthrwc.org
END:VEVENT
BEGIN:VEVENT
DTSTART;TZID=UTC:20211029T233000
DTEND;TZID=UTC:20211030T030000
DTSTAMP:20260424T040213
CREATED:20211024T095354Z
LAST-MODIFIED:20211024T095354Z
UID:16750-1635550200-1635562800@rebirthrwc.org
SUMMARY:Night of Prayer of October 29\, 2021
DESCRIPTION:
URL:https://rebirthrwc.org/event/night-of-prayer-of-october-29-2021/
LOCATION:Rebirth on Zoom
CATEGORIES:Zoom App
ATTACH;FMTTYPE=image/jpeg:https://rebirthrwc.org/wp-content/uploads/2021/10/October-29-friday-prayer.jpg
ORGANIZER;CN="Rebirth Ministry":MAILTO:info@rebirthrwc.org
END:VEVENT
END:VCALENDAR