BEGIN:VCALENDAR
VERSION:2.0
PRODID:-//Rebirth Ministries - ECPv6.15.18//NONSGML v1.0//EN
CALSCALE:GREGORIAN
METHOD:PUBLISH
X-ORIGINAL-URL:https://rebirthrwc.org
X-WR-CALDESC:Events for Rebirth Ministries
REFRESH-INTERVAL;VALUE=DURATION:PT1H
X-Robots-Tag:noindex
X-PUBLISHED-TTL:PT1H
BEGIN:VTIMEZONE
TZID:UTC
BEGIN:STANDARD
TZOFFSETFROM:+0000
TZOFFSETTO:+0000
TZNAME:UTC
DTSTART:20200101T000000
END:STANDARD
END:VTIMEZONE
BEGIN:VEVENT
DTSTART;TZID=UTC:20210827T233000
DTEND;TZID=UTC:20210828T030000
DTSTAMP:20260424T041103
CREATED:20210826T092903Z
LAST-MODIFIED:20210826T092903Z
UID:16653-1630107000-1630119600@rebirthrwc.org
SUMMARY:Night of Prayer of August  27\, 2021
DESCRIPTION:Last Friday of the month Night of Prayer.\nLuke 1:68 \nBlessed be the LORD GOD of Israel; for HE hath visited and redeemed HIS people \nExperiencing GOD’S visitation \nGOD still visits HIS people and never leaves them all alone. \nWe need the visitation of GOD to prosper us in all we do. \nWhen GOD visits HIS own people\, HE doesn’t do that coming empty-handed\, HE will surely meet their hearts desires. If you have the opportunity to receive a visitation from GOD\, be assured that you are already destined for pleasant surprises.\nThe truth of this is that if you need the visitation of GOD in your life\, you must love\, you must show love to people because GOD is love.  It’s the only way for experiencing GOD’S visitation. \n1 John 4:8 says\, “He that does not love does not know GOD because GOD is love.”\nYou learn to show love to extent that you should know how to help strangers.\nWhen three strangers visited Abraham\, he entertained them\, and little did he know that they were messengers of GOD. Abraham enjoyed the visitation because he was blessed. \nGOD works in diverse ways\, we don’t know how HE will visit us that is why we need to show love to everybody so we will not miss HIS visitation. \nJoin us at 12:00AM (West Africa Time) on Friday 27 August 2021 for a night of deliverance\, “O LORD\, Visit Me!“ at our end of the month Friday Night Vigil on Zoom. \nThis broadcast is only available to members of the Rebirthrwc Ministry.
URL:https://rebirthrwc.org/event/night-of-prayer-of-august-27-2021/
LOCATION:Rebirth on Zoom
CATEGORIES:Periscope
ATTACH;FMTTYPE=image/jpeg:https://rebirthrwc.org/wp-content/uploads/2021/08/Last-Friday-of-the-month-Night-of-Prayer.jpg
ORGANIZER;CN="Rebirth Ministry":MAILTO:info@rebirthrwc.org
END:VEVENT
END:VCALENDAR